BEGIN:VCALENDAR
VERSION:2.0
PRODID:-//Dorfkirche Isenbügel - ECPv6.0.6.2//NONSGML v1.0//EN
CALSCALE:GREGORIAN
METHOD:PUBLISH
X-WR-CALNAME:Dorfkirche Isenbügel
X-ORIGINAL-URL:http://dorfkirche-isenbuegel.de
X-WR-CALDESC:Events for Dorfkirche Isenbügel
REFRESH-INTERVAL;VALUE=DURATION:PT1H
X-Robots-Tag:noindex
X-PUBLISHED-TTL:PT1H
BEGIN:VTIMEZONE
TZID:Europe/Berlin
BEGIN:DAYLIGHT
TZOFFSETFROM:+0100
TZOFFSETTO:+0200
TZNAME:CEST
DTSTART:20210328T010000
END:DAYLIGHT
BEGIN:STANDARD
TZOFFSETFROM:+0200
TZOFFSETTO:+0100
TZNAME:CET
DTSTART:20211031T010000
END:STANDARD
END:VTIMEZONE
BEGIN:VEVENT
DTSTART;TZID=Europe/Berlin:20210623T190000
DTEND;TZID=Europe/Berlin:20210623T230000
DTSTAMP:20260422T163303
CREATED:20210519T093815Z
LAST-MODIFIED:20210614T092558Z
UID:2295-1624474800-1624489200@dorfkirche-isenbuegel.de
SUMMARY:Fußball EM Gruppenphase Deutschland - Ungarn
DESCRIPTION:Die geplante Übertragung im Rahmen eines Public Viewings muss leider Corona-bedingt abgesagt werden.
URL:http://dorfkirche-isenbuegel.de/event/fussball-em-gruppenphase-deutschland-ungarn
LOCATION:Dorfkirche Isenbügel\, Isenbügeler Str. 25\, Heiligenhaus\, 42579
CATEGORIES:Public Viewing
END:VEVENT
END:VCALENDAR