BEGIN:VCALENDAR
VERSION:2.0
PRODID:-//Dorfkirche Isenbügel - ECPv6.0.6.2//NONSGML v1.0//EN
CALSCALE:GREGORIAN
METHOD:PUBLISH
X-ORIGINAL-URL:http://dorfkirche-isenbuegel.de
X-WR-CALDESC:Events for Dorfkirche Isenbügel
REFRESH-INTERVAL;VALUE=DURATION:PT1H
X-Robots-Tag:noindex
X-PUBLISHED-TTL:PT1H
BEGIN:VTIMEZONE
TZID:Europe/Berlin
BEGIN:DAYLIGHT
TZOFFSETFROM:+0100
TZOFFSETTO:+0200
TZNAME:CEST
DTSTART:20210328T010000
END:DAYLIGHT
BEGIN:STANDARD
TZOFFSETFROM:+0200
TZOFFSETTO:+0100
TZNAME:CET
DTSTART:20211031T010000
END:STANDARD
END:VTIMEZONE
BEGIN:VEVENT
DTSTART;TZID=Europe/Berlin:20210825T203000
DTEND;TZID=Europe/Berlin:20210825T223000
DTSTAMP:20260422T134226
CREATED:20210802T131953Z
LAST-MODIFIED:20210802T131953Z
UID:2442-1629923400-1629930600@dorfkirche-isenbuegel.de
SUMMARY:Open AIR KINO : Das perfekte Geheimnis
DESCRIPTION:Open Air Kino an der Dorfkirche Isenbügel;  \nSieben Freunde beschließen bei einem gemeinsamen Abendessen ihr Vertrauen auf die Probe stellen\, indem sie sich darauf einigen\,alle eingehenden Nachrichten und Anrufe auf ihren Handys während des Essens mit den Anwesenden zu teilen.\nEiner der erfolgreichsten dt. Filme in 2019 mit 7 bekannten dt. Film Stars. \nFreigabe ab 12 Jahre \nDer Eintritt ab ca. 19:30 Uhr ist wie immer frei. \nBitte beachten sie unbedingt die aktuellen CORONA Verhaltenshinweise: \nDer Zutritt ist nur Personen gestattet\, die Getestet\, Genesen oder Geimpft sind !! ( 3G – Regel) \nAußerdem gelten u.a. Handdesinfektionen\, Tragen eines Mund-  / Nasenschutzes bis zum Sitzplatz\, wo eine pers. Registrierung erforderlich ist. \nDa es max. 35 Plätze gibt \, empfehlen wir dringend die Möglichkeit zur Voranmeldung ( Sa\, von 11.00 -13:00 Uhr bei der offenen Dorfkirche) oder hier auf der Homepage via Mail.\nDie bestellten Plätze werden bis 20:15 Uhr reserviert und werden danach bei Bedarf freigegeben \nDer Filmbeginn ist nach Einbruch der Dunkelheit ab ca. 20:30 Uhr.\nFür Getränke wird gesorgt.\nAnm.: Bitte einen Pullover und / oder eine Decke für die Abendkühle mitbringen. Auch bei leichtem Regen werden die Filme gezeigt.  Im Zweifelsfall bitte die letzten Infos unserer Homepage beachten
URL:http://dorfkirche-isenbuegel.de/event/open-air-kino-das-perfekte-geheimnis
LOCATION:Dorfkirche Isenbügel\, Isenbügeler Str. 25\, Heiligenhaus\, 42579
CATEGORIES:Kino
END:VEVENT
END:VCALENDAR