BEGIN:VCALENDAR
VERSION:2.0
PRODID:-//Dorfkirche Isenbügel - ECPv6.0.6.2//NONSGML v1.0//EN
CALSCALE:GREGORIAN
METHOD:PUBLISH
X-ORIGINAL-URL:http://dorfkirche-isenbuegel.de
X-WR-CALDESC:Events for Dorfkirche Isenbügel
REFRESH-INTERVAL;VALUE=DURATION:PT1H
X-Robots-Tag:noindex
X-PUBLISHED-TTL:PT1H
BEGIN:VTIMEZONE
TZID:Europe/Berlin
BEGIN:DAYLIGHT
TZOFFSETFROM:+0100
TZOFFSETTO:+0200
TZNAME:CEST
DTSTART:20210328T010000
END:DAYLIGHT
BEGIN:STANDARD
TZOFFSETFROM:+0200
TZOFFSETTO:+0100
TZNAME:CET
DTSTART:20211031T010000
END:STANDARD
END:VTIMEZONE
BEGIN:VEVENT
DTSTART;TZID=Europe/Berlin:20210920T193000
DTEND;TZID=Europe/Berlin:20210920T214500
DTSTAMP:20260420T184307
CREATED:20210822T192858Z
LAST-MODIFIED:20210916T065508Z
UID:2468-1632166200-1632174300@dorfkirche-isenbuegel.de
SUMMARY:Fällt leider aus: VHS-Kurs mit Achim Schad: Kinder in der Pubertät - Mama\, chill mal!
DESCRIPTION:Der Vortrag fällt leider aus. \nViele Eltern erleben die Pubertät ihrer Kinder als mühsame oder schwierige Zeit. Was verändert sich beim Kind mit dem Eintritt in die Pubertät? Wie viel Verantwortung kann den Kindern und Jugendlichen übertragen werden? Wie sollte mit dem Thema “Schule” umgegangen werden? Welche Regeln des Zusammenlebens sind sinnvoll? Wie können Konflikte “entschärft” werden? In diesem Seminar werden geeignete “Familienregeln” und Konfliktlösungsmöglichkeiten vermittelt. \nWichtige Anmerkungen: Die Veranstaltung findet unter Vorbehalt der dann gültigen Beschränkungen der Corona-Pandemie statt. Eine Anmeldung ist wegen persönlicher Registrierung unbedingt erforderlich! \nDozent: Achim Schad\nEntgelt: 6\,00 €\nAnmeldung: VHS Velbert/Heiligenhaus oder 02051-94960
URL:http://dorfkirche-isenbuegel.de/event/vhs-kurs-mit-achim-schad-kinder-in-der-pubertaet-mama-chill-mal
CATEGORIES:VHS- Veranstaltung
END:VEVENT
END:VCALENDAR