BEGIN:VCALENDAR
VERSION:2.0
PRODID:-//Dorfkirche Isenbügel - ECPv6.0.6.2//NONSGML v1.0//EN
CALSCALE:GREGORIAN
METHOD:PUBLISH
X-WR-CALNAME:Dorfkirche Isenbügel
X-ORIGINAL-URL:http://dorfkirche-isenbuegel.de
X-WR-CALDESC:Events for Dorfkirche Isenbügel
REFRESH-INTERVAL;VALUE=DURATION:PT1H
X-Robots-Tag:noindex
X-PUBLISHED-TTL:PT1H
BEGIN:VTIMEZONE
TZID:Europe/Berlin
BEGIN:DAYLIGHT
TZOFFSETFROM:+0100
TZOFFSETTO:+0200
TZNAME:CEST
DTSTART:20210328T010000
END:DAYLIGHT
BEGIN:STANDARD
TZOFFSETFROM:+0200
TZOFFSETTO:+0100
TZNAME:CET
DTSTART:20211031T010000
END:STANDARD
END:VTIMEZONE
BEGIN:VEVENT
DTSTART;TZID=Europe/Berlin:20211010T170000
DTEND;TZID=Europe/Berlin:20211010T170000
DTSTAMP:20260420T172822
CREATED:20210715T155611Z
LAST-MODIFIED:20210715T155611Z
UID:2426-1633885200-1633885200@dorfkirche-isenbuegel.de
SUMMARY:Natürlich – Querflöte
DESCRIPTION:Zum zweiten Mal in der Dorfkirche Isenbügel begrüßen wir Diren Duran\, die zusammen mit ihrem Klavierbegleiter ihr neues Programm – wie gewohnt ein Mix aus äußerst anspruchsvollen Kompositionen – auf höchstem Niveau\, sensibel und technisch äußerst vollendet präsentiert.  \n \nDiren Duran wurde 1998 in Andernach geboren. Mit 6 Jahren bekam sie ihren ersten Querflötenunterricht. Sie studiert Flöte an der Robert-Schumann-Hochschule Düsseldorf bei Prof. Michael Faust und erhält zusätzlich Gesangsunterricht bei Prof. Brigitte Lindner. Weitere Impulse für ihre flötistische Ausbildung erhielt sie in Meisterkursen bei Anne-Cathérine Heinzmann\, Angela Firkins\, Barthold Kuijken und Patrick Gallois. Diren Duran ist Preisträgerin beim „Open-Space-Konzeptwettbewerb“ 2019. Im Oktober 2018 gewann Diren Duran den 1. Preis beim Achterkerke-Musikwettbewerb „Die Besten von morgen“ auf Usedom. Außerdem erlang sie im September 2018 den Sonderpreis der Berthold-Hummel-Stiftung für die beste Interpretation eines Werks der Klassischen Moderne. Sie ist mehrfache Preisträgerin bei Jugend musiziert auf Bundesebene und gewann unter anderem 2018 den 1. Preis im Bundeswettbewerb in der Kategorie Querflöte solo bei Jugend musiziert. Sie spielt außerdem im Landesjugendorchester NRW und gibt regelmäßig Konzerte. Seit 2019 ist sie Stipendiatin der Studienstiftung des deutschen Volkes. \nDatum: Sonntag\, 10. Oktober\, 17:00 Uhr\nEintritt: Eintritt frei\, um Spenden wird gebeten\nProjektverantwortlicher: Thomas Bothmann
URL:http://dorfkirche-isenbuegel.de/event/natuerlich-querfloete
CATEGORIES:Konzerte
END:VEVENT
END:VCALENDAR