BEGIN:VCALENDAR
VERSION:2.0
PRODID:-//Dorfkirche Isenbügel - ECPv6.0.6.2//NONSGML v1.0//EN
CALSCALE:GREGORIAN
METHOD:PUBLISH
X-ORIGINAL-URL:http://dorfkirche-isenbuegel.de
X-WR-CALDESC:Events for Dorfkirche Isenbügel
REFRESH-INTERVAL;VALUE=DURATION:PT1H
X-Robots-Tag:noindex
X-PUBLISHED-TTL:PT1H
BEGIN:VTIMEZONE
TZID:Europe/Berlin
BEGIN:DAYLIGHT
TZOFFSETFROM:+0100
TZOFFSETTO:+0200
TZNAME:CEST
DTSTART:20210328T010000
END:DAYLIGHT
BEGIN:STANDARD
TZOFFSETFROM:+0200
TZOFFSETTO:+0100
TZNAME:CET
DTSTART:20211031T010000
END:STANDARD
END:VTIMEZONE
BEGIN:VEVENT
DTSTART;TZID=Europe/Berlin:20211117T190000
DTEND;TZID=Europe/Berlin:20211117T190000
DTSTAMP:20260420T160231
CREATED:20210926T184008Z
LAST-MODIFIED:20210926T185303Z
UID:2483-1637175600-1637175600@dorfkirche-isenbuegel.de
SUMMARY:Dietrich Bonhoeffer: „Von guten Mächten wunderbar geborgen...“
DESCRIPTION:Diese Veranstaltung musste Corona-bedingt letztes Jahr ausfallen\, jetzt wird der Vortrag von Karl-Erich Pönitz nachgeholt. \nEin berühmtes Gedicht\, ein mutiges Leben und ein besonderes Anliegen \nAm 09. April 1945 wurde Dietrich Bonhoeffer im Konzentrationslager Flossenbürg ermordet. Sein Tod jährte sich am 09. April 2020 zum 75. Mal. Sein berühmtestes Gedicht: “Von guten Mächten“ ist allgemein bekannt. Weniger bekannt ist der Mensch\, der es dichtete\, sein Leben und sein christlich-theologisches Profil. Während viel Deutsche\, auch Christen\, den Nationalsozialismus anfangs begrüßten\, gehörte Bonhoeffer von Anfang an zu den kompromisslosen Gegnern. Bonhoeffer blieb einsam\, auch in der Bekennenden Kirche. Er wählte aus Verantwortung den gefährlichen Weg des aktiven Widerstandes gegen Hitler. Seine Beteiligung an Umsturzvorbereitungen brachten ihm schließlich den Tod. Der Vortrag zeichnet die Stationen seines Lebens und Wirkens nach. \nHinweis: Entsprechend der jeweils gültigen Hygiene-Verordnung sind wir ggf. verpflichtet\, beim Einlass die Umsetzung der „G-Regelung“ zu kontrollieren. Bitte halten Sie einen entsprechenden Nachweis bereit. Anmeldung (wird dringend empfohlen) auf der Homepage des Förderkreises Dorfkirche Isenbügel per Mail oder samstags während der Offenen Dorfkirche 11:00 – 13:00 Uhr. \nDatum: Mittwoch\, 17. November 2021\, 19:00 Uhr\nEintritt: Eintritt frei\, um Spenden wird gebeten\nProjektverantwortliche: Erika Otten\, Hans Schäfers
URL:http://dorfkirche-isenbuegel.de/event/dietrich-bonhoeffer-von-guten-maechten-wunderbar-geborgen-2
CATEGORIES:Vorträge
END:VEVENT
END:VCALENDAR