BEGIN:VCALENDAR
VERSION:2.0
PRODID:-//Dorfkirche Isenbügel - ECPv6.0.6.2//NONSGML v1.0//EN
CALSCALE:GREGORIAN
METHOD:PUBLISH
X-ORIGINAL-URL:http://dorfkirche-isenbuegel.de
X-WR-CALDESC:Events for Dorfkirche Isenbügel
REFRESH-INTERVAL;VALUE=DURATION:PT1H
X-Robots-Tag:noindex
X-PUBLISHED-TTL:PT1H
BEGIN:VTIMEZONE
TZID:Europe/Berlin
BEGIN:DAYLIGHT
TZOFFSETFROM:+0100
TZOFFSETTO:+0200
TZNAME:CEST
DTSTART:20210328T010000
END:DAYLIGHT
BEGIN:STANDARD
TZOFFSETFROM:+0200
TZOFFSETTO:+0100
TZNAME:CET
DTSTART:20211031T010000
END:STANDARD
END:VTIMEZONE
BEGIN:VEVENT
DTSTART;TZID=Europe/Berlin:20210508T190000
DTEND;TZID=Europe/Berlin:20210508T190000
DTSTAMP:20260422T163712
CREATED:20201203T224437Z
LAST-MODIFIED:20210531T155525Z
UID:2222-1620500400-1620500400@dorfkirche-isenbuegel.de
SUMMARY:Achtung\, neuer Termin: Viola Duo
DESCRIPTION:Das Konzert wird auf den 13. November 2021 verschoben. \nZwei Vollblut-Künstlerinnen\, zwei wundervolle Instrumente und ausgesuchte Kompositionen\, nicht mehr oder weniger benötigt man für einen einzigartigen Abend voller Klangfarben und verzaubernder Melodien\, wie Sie ihn am 08. Mai in der Dorfkirche Isenbügel erleben können. Nina Popotnig und Lolla Süßmilch nehmen ihr Publikum an diesem Abend mit auf eine Weltreise alter und moderner Musikstücke aus dem 18. bis zum 20. Jahrhundert aus verschiedenen Ländern. Sie präsentieren dabei Kompositionen aus Deutschland\, Frankreich und England über Rumänien bis hin in das ferne Korea von Ludwig van Beethoven\, Joseph Bodin de Boismortier\, Frank Bridge\, George Benjamin Myriam Marbe und Isang Yun. Genießen Sie den vollen und verzaubernden Klang zweier Bratschen im Duo – ein Erlebnis\, das einem nicht oft zuteilwird\, da man die Viola sonst oft nur als reines Orchesterinstrument kennt. \n\nNina Popotnig studierte Violine bei Helfried Fister in Klagenfurt\, Igor Ozim in Salzburg und Ida Bieler in Düsseldorf. Ihr Kammermusik-Studium absolvierte sie bei Elisabeth Fister in Klagenfurt. Sie ist Preisträgerin zahlreicher Wettbewerbe: Prima la musica\, TEMSIG\, Concorso A. e V. Marcosig\, Gradus ad Parnassum und Internationaler Johannes Brahms Wettbewerb. Nina Popotnig spielte als Solistin mit dem Kärntner Sinfonieorchester und der Slowenischen Philharmonie. Sie ist in verschiedenen Kammermusikensembles als Geigerin und Bratschistin tätig\, Stipendiatin der Villa Musica und leidenschaftliche Orchestermusikerin. Nach Engagements im Kärtner Sinfonieorchester\, dem Noord Nederlands Orkest und dem Mozarteumorchester Salzburg arbeitete sie zwei Jahre bei den Duisburger Philharmonikern\, davon ein Jahr als Stellvertretende Stimmführerin der 2. Violinen. Seit Beginn der Spielzeit 2016/ 2017 ist sie als Vorspielerin der 2. Violinen beim Sinfonieorchester Wuppertal fest engagiert. \nLolla Süßmilch hat bereits früh durch die Teilnahme in Jugendsinfonieorchestern\, wie beispielsweise das Bundesjugendorchester\, Gustav-Mahler-Jugend-Orchester in großen Konzertsälen Europas und unter namhaften Dirigenten (Pierre Boulez) Bühnenerfahrung sammeln können. Sie studierte Bratsche in Berlin bei Carol Rodland und in Lübeck bei Barbara Westphal. Dort konnte sie ihr Kammermusikrepertoire u.a. bei Walter Levin (Lassalle-Quartett) erweitern und hre Studien mit Meisterkursen bei Thomas Riebl\, Jürgen Kußmaul\, Sebastian Hamann und Arnold Steinhardt vervollständigen. Ihre Liebe und Neugier zur zeitgenössischen Musik führte sie zu Engagements bei der Ensemble Modern Akademie\, Ensemble Integrales und Klangwerk Chemnitz. In diesem Zusammenhang konnte sie Auftragskompositionen vergeben und mit Komponisten wie Sofia Gubaidulina und Toshio Hosokawa zusammenarbeiten. Auch das Kammerorchester zieht sich wie ein roter Faden durch ihr Leben. Sie spielte im Leipziger Kammerorchester\, Ensemble Resonanz\, Mahler Chamber Orchestra\, der Neusser Kammerakademie und bei den Festival¬Strings¬Lucerne. Lolla Süßmilch war stellvertretende Solobratsche im Staatstheater Darmstadt und bei den Düsseldorfer Symphonikern. Seit 2011 ist sie Vorspielerin bei den Duisburger Philharmonikern. Solistisch war sie unter anderem mit dem WKO Hamburg\, der camerata Essen\, im Opernhaus Chemnitz\, mit dem Akademischen Orchester Bonn und in der Tonhalle Düsseldorf zu erleben. Sie ist zudem gern gesehener Gast bei Kammermusikfestivals wie z.B. beim Open Chamber Music in Prussia Cove mit Steven Isserlis\, zu ihren Kammermusikpartnern gehören u.a. Adrian Brendel und Chloe Hanslip. \nHinweise: Die Veranstaltung findet unter Vorbehalt der dann gültigen Beschränkungen der Corona-Pandemie statt. Anmeldungen werden gerne samstags von 11.00 – 13.00 Uhr in der “Offenen Dorfkirche” oder unter der Rufnummer 02054 82146 entgegengenommen. \nDatum: Samstag\, 13. November 2021\, 19:00 Uhr Samstag\, 08. Mai 2021\, 19:00 Uhr\nEintritt: Eintritt frei\, um Spenden wird gebeten\nProjektverantwortlicher: Thomas Bothmann
URL:http://dorfkirche-isenbuegel.de/event/viola-duo-3
CATEGORIES:Konzerte
END:VEVENT
BEGIN:VEVENT
DTSTART;TZID=Europe/Berlin:20210514T193000
DTEND;TZID=Europe/Berlin:20210514T193000
DTSTAMP:20260422T163712
CREATED:20201220T125202Z
LAST-MODIFIED:20210501T175933Z
UID:2238-1621020600-1621020600@dorfkirche-isenbuegel.de
SUMMARY:Wird nachgeholt: Opernpremiere in der Dorfkirche-Isenbügel mit Maria del Mar Humanes und Guillem Batllori
DESCRIPTION:Aufgrund der fortlaufenden Beschränkungen durch die Corona-Pandemie muss das Konzert leider verschoben werden. Das Konzert wird im neuen Format zu einem späteren Zeitpunkt nachgeholt. \nAm Freitag\, den 14. Mai 2021 dürfen wir in der Dorfkirche Isenbügel zwei „Rising Stars“ am Opernhimmel begrüßen. Maria del Mar Humanes hat bereits viele Rollen an europäischen Opernstudios und Opernhäusern gesungen\, zuletzt im Aalto Theater in Essen. Ihr Sopran ist so wie ihre Persönlichkeit\, stolz und spanisch\, klar und einschmeichelnd zugleich. Entsprechend reicht ihr Repertoire von der Musetta aus Puccini’s „La Boheme“ bis hin zu Pergolesis „Stabat mater“. Maria del Mar Humanes gewann den 1. Preis „Camerata Sant Cugat Wettbewerb“ und den 1. Preis beim „Conchita Badia Gesangswettbewerb“; sie war Semifinalist beim Wettbewerb der „Oper im Berg Salzburg“ sowie beim „Symphonies d’Automne Wettbewerb“.\nMaria del Mar Humanes \nDen Abend wird sie zusammen mit dem Bariton Guillem Batllori bestreiten\, der ebenfalls bereits über eine breite Bühnenerfahrung verfügt. Unter anderem war er für verschiedenen Rollen an Opernhäusern und Festivals in Katalonien\, Barcelona\, und in Oman engagiert. Guillem Batllori ist seit der Spielzeit 2019/ 2020 Mitglied im Opernstudio Niederrhein und war dort u.a. in den Opern „Die Zauberflöte“\, „Orpheus in der Unterwelt“ und „Rigoletto“ zu hören.\nGuillem Batllori \nIn der Dorfkirche werden die beiden vom Liedpianisten und Folkwang-Dozenten Maxim Shamo am Flügel begleitet. Maxim Shamo wurde im Nordkaukasus in eine Familie mit einer großen musikalischen Tradition geboren. Er ging mit 12 Jahren auf seine erste Konzerttournee durch Ukraine und Schweden. Seinem musikalischen Weg folgend\, studierte Maxim Shamo in Essen\, Stockholm und Amsterdam. Er gewann den 1. Preis beim Köhler-Osbahr-Klavierwettbewerb und erhielt während seiner Studienzeit an der Folkwang Universität der Künste Stipendien der deutschen Yehudi-Menuhin-Stiftung und des Rotary Clubs Niederlande-Deutschland. In der Spielzeit 2019/ 2020 assistierte Maxim Shamo bei Liedinterpretations-Meisterkursen seines Mentoren Helmut Deutsch. \nFür den Abend haben sich die drei etwas Besonderes vorgenommen. Es besteht zum einen aus einem Einakter „The Telephone“ von Gian Carlo Menotti\, der 1947 als Opera buffa am Heckscher Theater in New York uraufgeführt wurde. Die Handlung des Stückes ist eigentlich ganz simpel und in der Zeit von WhatsApp\, Twitter und Co. hochaktuell: Ben versucht Lucy einen Heiratsantrag zu machen\, dieses wichtige Gespräch wird aber fortdauernd von Anrufen gestört. Das Stück lebt vom Spaß\, miteinander zu spielen und zu kokettieren. Charaktere\, die Maria del Mar Humanes und Guillem Batllori perfekt verkörpern. Abgerundet wird der der Abend mit Liedern von Johannes Brahms sowie Liedern aus dem „Italienischen Liederbuch” von Hugo Wolf. \nHinweise: Die Veranstaltung findet unter Vorbehalt der dann gültigen Beschränkungen der Corona-Pandemie statt. Anmeldungen werden gerne unter der Rufnummer 02054 82146 entgegengenommen oder – sobald pandemiebedingt wieder möglich  – samstags von 11.00 bis 13.00 Uhr in der „Offenen Dorfkirche”.  \nDatum: Freitag\, 14. Mai 2021\, 19:30 Uhr\nEintritt: Eintritt frei\, um Spenden wird gebeten\nProjektverantwortlicher: Thomas Bothmann
URL:http://dorfkirche-isenbuegel.de/event/opernpremiere-in-der-dorfkirche-isenbuegel-mit-maria-del-mar-humanes-und-guillem-batllori
CATEGORIES:Konzerte
END:VEVENT
END:VCALENDAR