BEGIN:VCALENDAR
VERSION:2.0
PRODID:-//Dorfkirche Isenbügel - ECPv6.0.6.2//NONSGML v1.0//EN
CALSCALE:GREGORIAN
METHOD:PUBLISH
X-ORIGINAL-URL:http://dorfkirche-isenbuegel.de
X-WR-CALDESC:Events for Dorfkirche Isenbügel
REFRESH-INTERVAL;VALUE=DURATION:PT1H
X-Robots-Tag:noindex
X-PUBLISHED-TTL:PT1H
BEGIN:VTIMEZONE
TZID:Europe/Berlin
BEGIN:DAYLIGHT
TZOFFSETFROM:+0100
TZOFFSETTO:+0200
TZNAME:CEST
DTSTART:20220327T010000
END:DAYLIGHT
BEGIN:STANDARD
TZOFFSETFROM:+0200
TZOFFSETTO:+0100
TZNAME:CET
DTSTART:20221030T010000
END:STANDARD
END:VTIMEZONE
BEGIN:VEVENT
DTSTART;TZID=Europe/Berlin:20220101T170000
DTEND;TZID=Europe/Berlin:20220101T180000
DTSTAMP:20260422T105300
CREATED:20211229T101549Z
LAST-MODIFIED:20211229T101549Z
UID:2569-1641056400-1641060000@dorfkirche-isenbuegel.de
SUMMARY:Ökumenischer Neujahrsgottesdienst
DESCRIPTION:
URL:http://dorfkirche-isenbuegel.de/event/oekumenischer-neujahrsgottesdienst
LOCATION:Dorfkirche Isenbügel\, Isenbügeler Str. 25\, Heiligenhaus\, 42579
CATEGORIES:Geistliches
ORGANIZER;CN="Evgl.%20Kirchengemeinde%20Heiligenhaus":MAILTO:heiligenhaus@ekir.de
END:VEVENT
BEGIN:VEVENT
DTSTART;TZID=Europe/Berlin:20220109T170000
DTEND;TZID=Europe/Berlin:20220109T170000
DTSTAMP:20260422T105300
CREATED:20210926T185118Z
LAST-MODIFIED:20211228T175958Z
UID:2486-1641747600-1641747600@dorfkirche-isenbuegel.de
SUMMARY:Abgesagt: Saxophon-Oktett „Gib Acht“ mit „nachweihnachtlicher“ Musik
DESCRIPTION:Der geplante Konzertauftritt des Saxophon-Orchesters “Gib Acht” wird coronabedingt abgesagt. Ein Ersatztermin ist für das Frühjahr vorgesehen. Wir wünschen allen Freundinnen und Freunden der Dorfkirche Isenbügel ein gutes und erfolgreiches Neues Jahr 2022. \nDas Saxophon-Oktett „Gib Acht“ ist Teil des Wuppertaler Saxophon Orchesters „Sax For Fun“\, eines der größten Saxophonorchesters Europas.\nIm Oktett „Gib Acht“ haben sich 8 engagierte Musiker und Musikerinnen unter der Leitung des bekannten Wuppertaler Saxophonisten\, Dirigenten und Arrangeurs Thomas Voigt zusammengefunden. Trotz der coronabedingt eingeschränkten Probenmöglichkeiten wurde ein abwechslungsreiches Programm erarbeitet\, welches die gesamte Bandbreite des Könnens dieses Ensembles widerspiegelt. \n \nVon Swing- und Bigband Sounds\, Musical/Operetten und Filmmusik\, Pop bis zu klassischen und traditionellen Stücken ist für jeden Geschmack etwas dabei. Mit der Auswahl der Stücke wird  die Zeit der Stille und weihnachtlichen Besinnlichkeit in das neue Jahr mitgenommen und 2022 mit schwungvollen Melodien begrüßt. Das Publikum kommt hierbei in den Genuss der ganzen klanglichen Bandbreite dieses Musikinstruments\, vom Kontrabass bis zum Sopransaxophon. \nHinweis: Entsprechend der jeweils gültigen Hygiene-Verordnung sind wir ggf. verpflichtet\, beim Einlass die Umsetzung der „G-Regelung“ zu kontrollieren. Bitte halten Sie den entsprechenden Nachweis bereit. Anmeldung (wird dringend empfohlen) auf der Homepage des Förderkreises Dorfkirche Isenbügel per Mail oder samstags während der Offenen Dorfkirche von 11:00 – 13:00 Uhr. \nDatum: Sonntag\, 09.01.2022 um 17:00 Uhr\nEintritt: Der Eintritt ist frei\, um eine Spende für das Oktett wird gebeten\nProjektverantwortliche: Erika Otten\, Hans Schäfers
URL:http://dorfkirche-isenbuegel.de/event/saxophon-oktett-gib-acht-mit-nachweihnachtlicher-musik
CATEGORIES:Konzerte
END:VEVENT
BEGIN:VEVENT
DTSTART;TZID=Europe/Berlin:20220116T111500
DTEND;TZID=Europe/Berlin:20220116T123000
DTSTAMP:20260422T105300
CREATED:20211205T180353Z
LAST-MODIFIED:20220112T162713Z
UID:2518-1642331700-1642336200@dorfkirche-isenbuegel.de
SUMMARY:Gottesdienst zur Einweihung des neuen Kirchenfensters in der Dorfkirche
DESCRIPTION:Seit einem Jahr zieht das neue Kirchenfenster nun schon die Blicke auf sich und erfreut nicht nur die Gottesdienstbesucherinnen und Besucher. In Kevelaer wurde in einer Fachwerkstatt für Glasmalerei\, Glaskunst und Mosaik ein neues\, allerdings nun mit äußerst langlebigen Einbrennfarben koloriertes Kirchenfenster hergestellt\, nachdem die Farben vom alten Fenster wieder nahezu komplett abgeblättert waren. Nun wollen wir es im Gottesdienst am 16. Januar 2022 um 11:15 Uhr offiziell einweihen. An dieser Stelle noch einmal ein herzliches Dankeschön an alle Spender‘innen\, die dem Förderkreis Dorfkirche die Erneuerung des Kirchenfensters ermöglicht haben! \nDer Gottesdienst wird musikalisch begleitet von der Jugendband der evangelischen Kirchengemeinde >> Meet me at five << . \nDatum: Sonntag\, 16. Januar 2022\, 11:15 Uhr
URL:http://dorfkirche-isenbuegel.de/event/gottesdienst-zur-einweihung-des-neuen-kirchenfensters-in-der-dorfkirche
LOCATION:Dorfkirche Isenbügel\, Isenbügeler Str. 25\, Heiligenhaus\, 42579
CATEGORIES:Geistliches
END:VEVENT
BEGIN:VEVENT
DTSTART;TZID=Europe/Berlin:20220123T170000
DTEND;TZID=Europe/Berlin:20220123T170000
DTSTAMP:20260422T105300
CREATED:20210713T044904Z
LAST-MODIFIED:20211218T125049Z
UID:2401-1642957200-1642957200@dorfkirche-isenbuegel.de
SUMMARY:Preisträgerkonzert  -  Wettbewerb „Konzert & Moderation“
DESCRIPTION:Der Förderkreis der Dorfkirche Isenbügel lädt ein zum sonntäglichen Preisträgerkonzert des Isenbügeler Musikwettbewerbs. Der Musikwettbewerb hat das Konzept „Musikvermittlung/ Konzertmoderation“ im Zusammenhang mit der Interpretation von Kompositionen. Die Teilnehmenden sollen dabei ihr Geschick als „Moderatoren“ in Verbindung mit ihrer musikalischen Interpretation zeigen. Das Thema des Wettbewerbs des Jahres 2022 lautet „Programmmusik“. Die Wahl des Instrumentes ist bewusst offen gelassen worden\, auch Gesangsdarbietungen sind möglich. \n \nDer Aufbau und Inhalt der Moderation ist den Teilnehmenden überlassen: Sie kann beispielweise den Aufbau und Form der Komposition\, die historische Einordnung\, die Entstehungsgeschichte\, Biographie des Komponisten\, hermeneutische Deutungen\, ästhetische\, sozialgeschichtliche\, institutionsgeschichtliche Kontexte\, Probleme der Aufführungspraxis\, Besonderheiten des Instruments oder spieltechnische Besonderheiten beinhalten. Insgesamt soll sie das Publikum ansprechen und für die Aufführung der Komposition begeistern. \nDer Musikwettbewerb richtet sich an alle Studierenden in Essen\, Düsseldorf\, Köln/ Aachen/ Wuppertal und Detmold. Auch Jungstudenten sind zum Wettbewerb zugelassen. Der Wettbewerb selbst wird ganztägig am Samstag\, den 22. Januar 2022\, in der Dorfkirche stattfinden und ist für die Öffentlichkeit zugänglich. \nDie Jury ist hochkarätig u.a. mit dem Prof. Xaver Poncette\, Prof. Dr. Elisabeth Schmierer sowie Dr. Christiane Wendel besetzt. \nWir rechnen mit einem spannenden und unterhaltsamen Preisträgerkonzert und lassen und von der Kreativität der Teilnehmenden überraschen. \nHinweise: Die Veranstaltung findet unter Vorbehalt der zu dem Zeitpunkt gültigen Beschränkungen der Corona-Pandemie statt. Anmeldungen werden gerne samstags von 11.00 – 13.00 Uhr in der “Offenen Dorfkirche” oder per eMail: vorstand@dorfkirche-isenbuegel.de entgegengenommen. \nDatum: Sonntag\, 23. Januar 2022\, 17:00 Uhr\nEintritt: Eintritt frei\, um Spenden wird gebeten\nProjektverantwortlicher: Thomas Bothmann
URL:http://dorfkirche-isenbuegel.de/event/preistraegerkonzert-wettbewerb-konzert-moderation
CATEGORIES:Konzerte
END:VEVENT
BEGIN:VEVENT
DTSTART;TZID=Europe/Berlin:20220128T193000
DTEND;TZID=Europe/Berlin:20220128T210000
DTSTAMP:20260422T105300
CREATED:20211023T082028Z
LAST-MODIFIED:20211208T090415Z
UID:2498-1643398200-1643403600@dorfkirche-isenbuegel.de
SUMMARY:Mit - Singabend mit Anja Lerch entfällt bzw. wird verschoben
DESCRIPTION:Der geplante Singabend mit Anja Lerch in der Dorfkirche Isenbügel entfällt am 28.1.2022!!!!\nEr muss Corona-bedingt leider verschoben werden!!!\n“Wunder gib es immer wieder“\nNach dem sehr erfolgreichen Mitsingabend 2020 – vor dem Corona Ausbruch  – versucht der Förderkreis der Dorfkirche Isenbügel in 2022 eine Neuauflage des Singabends mit Anja Lerch einzuplanen. Seit über 13 Jahren veranstaltet Anja Lerch unter dem Motto „Singen weil´s Spaß macht und gut für die Seele ist“  erfolgreich den Mitsingabend mit Kultstatus im Ruhrgebiet und am Niederrhein. Die leidenschaftliche und studierte Sängerin\, überzeugt ihr Publikum immer wieder mit ihrer lockeren\, authentischen und mitreißenden Art. Das Programm beinhaltet Songs aus allen möglichen Genres (Rock\, Pop\, Evergreens\, trad. Volkslieder\, alten Schlagern\, Soul\, etc.) . \nDie Liedtexte werden – wie immer – auf eine Leinwand projektiert. \nVorbehaltlich der akt. Corona Entwicklung und der dann gültigen Auflagen laden wir ein am Freitag\, 28.1.2022\, zu einem gemeinsamen Singen  (‘Rudelsingen‘) mit Menschen aus allen Generationen an einem Abend in spontaner und lockerer Atmosphäre. \nEintritt: Abendkasse – falls Restkarten vorhanden:  13 €; \nVorverkauf (ab Dezember\, nur  Sa. morgens 11-13 Uhr in der „offenen Dorfkirche Isenbügel“):  12 € \nEinlass ab 19:00 Uhr; Start 19:30 Uhr \nBitte beachten sie die aktuellen Informationen/Hinweise hier auf unserer Homepage.
URL:http://dorfkirche-isenbuegel.de/event/mit-singabend-mit-anja-lerch
LOCATION:Dorfkirche Isenbügel\, Isenbügeler Str. 25\, Heiligenhaus\, 42579
CATEGORIES:Konzerte,Rock/Jazz/Folk,Singkreis
ORGANIZER;CN="F%C3%B6rderkreis%20der%20Dorfkirche%20Isenb%C3%BCgel%20e.V.":MAILTO:jwolnik@t-online.de
END:VEVENT
END:VCALENDAR